BEGIN:VCALENDAR
VERSION:2.0
PRODID:ShowClix//ShowClix//EN
BEGIN:VTIMEZONE
TZID:America/Chicago
BEGIN:STANDARD
DTSTART:20261101T070000
TZOFFSETFROM:-0500
TZOFFSETTO:-0600
TZNAME:CST
END:STANDARD
BEGIN:DAYLIGHT
DTSTART:20270314T080000
TZOFFSETFROM:-0600
TZOFFSETTO:-0500
TZNAME:CDT
END:DAYLIGHT
END:VTIMEZONE
BEGIN:VEVENT
DTSTART;TZID=America/Chicago:20260502T190000
SUMMARY:Stockyards Ghost Tour
DESCRIPTION:Show details available at https://tickets.grapevineticketline.com/event/stockyards-ghost-tourvkxkbbu
LOCATION:Cowtown Winery
GEO:32.788577;-97.346791
END:VEVENT
END:VCALENDAR
